BEGIN:VCALENDAR
VERSION:2.0
PRODID:-//ktspeechwork.org - ECPv6.15.18//NONSGML v1.0//EN
CALSCALE:GREGORIAN
METHOD:PUBLISH
X-ORIGINAL-URL:https://ktspeechwork.org
X-WR-CALDESC:Events for ktspeechwork.org
REFRESH-INTERVAL;VALUE=DURATION:PT1H
X-Robots-Tag:noindex
X-PUBLISHED-TTL:PT1H
BEGIN:VTIMEZONE
TZID:America/Los_Angeles
BEGIN:DAYLIGHT
TZOFFSETFROM:-0800
TZOFFSETTO:-0700
TZNAME:PDT
DTSTART:20220313T100000
END:DAYLIGHT
BEGIN:STANDARD
TZOFFSETFROM:-0700
TZOFFSETTO:-0800
TZNAME:PST
DTSTART:20221106T090000
END:STANDARD
BEGIN:DAYLIGHT
TZOFFSETFROM:-0800
TZOFFSETTO:-0700
TZNAME:PDT
DTSTART:20230312T100000
END:DAYLIGHT
BEGIN:STANDARD
TZOFFSETFROM:-0700
TZOFFSETTO:-0800
TZNAME:PST
DTSTART:20231105T090000
END:STANDARD
BEGIN:DAYLIGHT
TZOFFSETFROM:-0800
TZOFFSETTO:-0700
TZNAME:PDT
DTSTART:20240310T100000
END:DAYLIGHT
BEGIN:STANDARD
TZOFFSETFROM:-0700
TZOFFSETTO:-0800
TZNAME:PST
DTSTART:20241103T090000
END:STANDARD
END:VTIMEZONE
BEGIN:VEVENT
DTSTART;TZID=America/Los_Angeles:20231014T120000
DTEND;TZID=America/Los_Angeles:20231015T160000
DTSTAMP:20260421T100031
CREATED:20230128T184118Z
LAST-MODIFIED:20230128T191805Z
UID:10000279-1697284800-1697385600@ktspeechwork.org
SUMMARY:ACTOR'S ACCENT TOOLKIT
DESCRIPTION:ACTOR’S ACCENT TOOLKIT:An Introduction to Knight-Thompson Speechwork for Performers \n\n\n\nWhen:Saturday\, October 14\, 12pm – 4pm\, PacificSunday\, October 15\, 12pm – 4pm\, Pacific \n\n\n\nWhere:Online via Zoom \n\n\n\nTaught by:Tyler Seiplewww.accentcoachla.com \n\n\n\nPrice: $250($175 for members of Stuart Rogers’ Studios) \n\n\n\n$100 for repeat registration \n\n\n\nTo register: Email Tyler at accentcoachla@gmail.com or visit here for more information. \n\n\n\nMaster Teacher Tyler Seiple leads an introduction to Knight-Thompson Speechwork for performers and public speakers. This eight-hour workshop focuses on understanding what accents are and the skills needed to develop them. With a tailored blend of discussion\, exercises\, and context-building\, students walk away with an understanding of the muscles that shape speech\, the patterns that make up accents\, and the tools they need to adopt any accent. It also introduces a more helpful\, KTS-based approach to the idea of “Accent Reduction\,” getting to the same result without shame or guilt. \n\n\n\nSpace is limited. Register now by emailing accentcoachla@gmail.com\, or by visiting here for more information. \n\n\n\nAfter the Actor’s Accent Toolkit\, students are invited to take shorter classes with Tyler in a wide and expanding variety of accents. Using the foundation of the Toolkit\, students will integrate target accents in less time and with a clear process. Upcoming accent classes can be found here.
URL:https://ktspeechwork.org/event/aat-oct23/
ATTACH;FMTTYPE=image/png:https://ktspeechwork.org/wp-content/uploads/2023/01/AAT-Graphic-2.png
END:VEVENT
BEGIN:VEVENT
DTSTART;TZID=America/Los_Angeles:20231022T120000
DTEND;TZID=America/Los_Angeles:20231022T130000
DTSTAMP:20260421T100032
CREATED:20231005T212728Z
LAST-MODIFIED:20251114T202417Z
UID:10000298-1697976000-1697979600@ktspeechwork.org
SUMMARY:KTS Webinar # 48: An Introduction to Knight-Thompson Speechwork: Peeking Behind the Magic (Accent) Curtain
DESCRIPTION:Join Miranda and Chris for a free introduction to Knight-Thompson Speechwork as we all anticipate the launch of the new book\, Experiencing Accents. Whether this is your first taste of KTS\, you’re looking for a brush-up\, or you’re a seasoned vet\, this webinar is sure to provide some fun tricks and insight into accent acquisition. We will take a brief tour of the history of KTS\, introduce some of the principles of the teaching philosophy\, and explore the famous 4 P’s. In order to both celebrate and demystify the “magic” of accent work\, we will play specifically with posture and prosody\, highlighting that while impressive\, accent proficiency is a skill that can be acquired and honed\, not just an innate talent or party trick. \n\n\n\n \n\n\n\nOn Sunday 22nd October 11am PST/2pm EST/7pm GMTTo convert this meeting to your time zone\, click here. \n\n\n\nRegistration will close 24 hours prior to the event and participants will then receive Zoom link information. All registrants will also receive the recording and post-webinar survey after the meeting has ended and been processed. \n\n\n\n\n\n\n\nChris (he/him) is a London based accent modification and dialect coach who has a private coaching practice. He is a Knight Thompson Speechwork certified teacher and works at various drama schools including London Academy of Music and Dramatic Art (LAMDA)\, Mountview Academy\, Rose Bruford\, Millenium Performing Arts (MPA) and ALRA (North and South) \n\n\n\nTV and Film production coaching includes: Wheel of Time III (AMAZON)\, Toxic Town (NETFLIX – dialect prep) Untitled Film with Lennie James (dialect prep) Andor II (DISNEY – shadowing dialect coach Naomi Todd) \n\n\n\nTheatre and Audio production coaching includes: Curious Incident of the Dog in the Night-Time (Chance Theater\, California)\, Paddington Lo[1]Commotion (BLENHEIM PALACE)\, Bad Seed (AUDIBLE)\, Miss Julie\, King Charles III\, A Monster Calls\, Three Sisters\, The Dog in the Manger\, The Erpingham Camp\, The Courage to Right a Woman’s Wrongs (LAMDA) Everlasting Lily (ASSOCIATED STUDIOS) \n\n\n\nIn addition to his coaching Chris works as an actor and since training at LAMDA has worked for BBC1\, BBC3\, Netflix\, Apple\, Amazon and filmed a recurring role on ‘Masters of the Air’ produced by Spielberg and Tom Hanks coming out Jan 2024.You can find out more about Chris and his work on his website: https://www.lakewoodamdc.co.uk/ \n\n\n\n\n\n\n\nMiranda Guettlein (she/her) is a Fort Collins\, Colorado based dialect coach . She completed her Knight-Thompson Speechwork certification in 2022 and has served as the KTS Webinar series co-curator for 2023. Miranda is a professor of voice\, speech\, and accents at the University of Northern Colorado and coaches theatrical productions throughout the state of Colorado. She has an MA in Linguistics from the University of Colorado and a BA in Linguistics from Regis University. Miranda is a VASTA member and  the co-editor of the Voice and Speech Review.  \n\n\n\nCoaching credits include: Titanic the Musical (University of Northern Colorado)\, Murder on the Orient Express\, Brigadoon\, The Scarlet Pimpernel\, Shrek\, Oliver!\, The Mousetrap\, Church Basement Ladies (Candlelight) Newsies\, Memphis\, Shout! (Town Hall Arts Center) Noises Off! (Stagedoor Theatre)\, and Shakespeare in Love (Vintage Theatre).
URL:https://ktspeechwork.org/event/kts-webinar-48-an-introduction-to-knight-thompson-speechwork-peeking-behind-the-magic-accent-curtain/
CATEGORIES:ADDITIONAL,WEBINAR
END:VEVENT
END:VCALENDAR