BEGIN:VCALENDAR
VERSION:2.0
PRODID:-//ktspeechwork.org - ECPv6.15.18//NONSGML v1.0//EN
CALSCALE:GREGORIAN
METHOD:PUBLISH
X-ORIGINAL-URL:https://ktspeechwork.org
X-WR-CALDESC:Events for ktspeechwork.org
REFRESH-INTERVAL;VALUE=DURATION:PT1H
X-Robots-Tag:noindex
X-PUBLISHED-TTL:PT1H
BEGIN:VTIMEZONE
TZID:America/Los_Angeles
BEGIN:DAYLIGHT
TZOFFSETFROM:-0800
TZOFFSETTO:-0700
TZNAME:PDT
DTSTART:20220313T100000
END:DAYLIGHT
BEGIN:STANDARD
TZOFFSETFROM:-0700
TZOFFSETTO:-0800
TZNAME:PST
DTSTART:20221106T090000
END:STANDARD
BEGIN:DAYLIGHT
TZOFFSETFROM:-0800
TZOFFSETTO:-0700
TZNAME:PDT
DTSTART:20230312T100000
END:DAYLIGHT
BEGIN:STANDARD
TZOFFSETFROM:-0700
TZOFFSETTO:-0800
TZNAME:PST
DTSTART:20231105T090000
END:STANDARD
BEGIN:DAYLIGHT
TZOFFSETFROM:-0800
TZOFFSETTO:-0700
TZNAME:PDT
DTSTART:20240310T100000
END:DAYLIGHT
BEGIN:STANDARD
TZOFFSETFROM:-0700
TZOFFSETTO:-0800
TZNAME:PST
DTSTART:20241103T090000
END:STANDARD
END:VTIMEZONE
BEGIN:VEVENT
DTSTART;TZID=America/Los_Angeles:20230327T090000
DTEND;TZID=America/Los_Angeles:20230402T160000
DTSTAMP:20260421T082115
CREATED:20220917T152308Z
LAST-MODIFIED:20230321T205749Z
UID:10000272-1679907600-1680451200@ktspeechwork.org
SUMMARY:EXPERIENCING SPEECH #38
DESCRIPTION:A Six-Day Workshop in:\nthe sounds of the world’s languages \nthe physicality of speech actions \nintroducing descriptive phonetics \nthe skills of adjusting linguistic detail in speech \nWith Master Teachers Andrea Caban & Tyler Seiple\nMarch 27 – April 2\, 2023\, 9am-4pm British Summer Time \nDaily meal break 12-1pm BST \nMarch 30th will be a day off. \nLondon\, England \nClick here for a full description of the workshop. \n\nWorkshop Costs:       \n\n\n\n\nVASTA Members    \n\n\n$850 USD*\n\n\n\n\nANY Union Members\n\n\n$850 USD**    \n\n\n\n\nNon-members\n\n\n$950 USD***\n\n\n\n\n \n* Use the code “vasta” when checking out.\n** Use the code “unionpride” when checking out.\n*** If you’re interested in repeating an “Experiencing…” workshop that you’ve already taken\, add your name to the “re-taker” waitlist here. We will contact you two weeks prior to the start of the workshop to let you know if there is space for you and provide you with a discount code for 1/2 off the full price of the workshop (discounts cannot be combined).\n \n\n\nThere is also a PART ONE ONLY OPTION for $550 USD ($450 USD with union membership)! \nThis three-day session (Part One) focuses on: \nAwareness and practice of precise articulation action \nThe physical actions that produce all the sounds of the world’s languages—”Omnish” \nVocal Tract Posture—the articulatory basis for the sounds in accents and languages \nThis session will also prepare the participant for Part Two\, which includes detailed phonetic transcription and an exploration of the skills of adjusting linguistic detail in speech. (No phonetic transcription will be used in Part One of the workshop.) Email knightthompsonspeechwork@gmail.com if interested in a PART ONE ONLY OPTION. \n \n\n\n\n\nDeadlines:\n\nIn order to plan effectively for these workshops\, it’s important to have a clear sense of the commitment of potential participants. For that reason we ask for a deposit of $200 USD to secure your place in the workshop. This is due six weeks prior to the start of the workshop\, on February 13\, 2023. The full payment is due three weeks prior to the start of the workshop\, on March 6\, 2023. If your plans change\, and you are unable to attend\, we will refund any payment less $75 USD if you inform us by March 13\, 2023. After that date\, however\, no refunds are possible. Please plan accordingly.
URL:https://ktspeechwork.org/event/experiencing-speech-38/
LOCATION:Mountview Drama School\, 120 Peckham Hill Street\, London\, SE15 5JT\, United Kingdom
CATEGORIES:CORE,EXPERIENCING SPEECH
ATTACH;FMTTYPE=image/jpeg:https://ktspeechwork.org/wp-content/uploads/2018/09/Experiencing-SPEECH-narrow-scaled.jpg
END:VEVENT
BEGIN:VEVENT
DTSTART;TZID=America/Los_Angeles:20230404T090000
DTEND;TZID=America/Los_Angeles:20230406T160000
DTSTAMP:20260421T082115
CREATED:20220918T142750Z
LAST-MODIFIED:20220918T212127Z
UID:10000273-1680598800-1680796800@ktspeechwork.org
SUMMARY:PHONETICS INTENSIVE #21
DESCRIPTION:A Three-Day Intensive in Phonetic Transcription\nWith Master Teachers Andrea Caban & Tyler Seiple \nApril 4th-6th\, 2023\, 9:00am-4:00pm British Summer Time \nThere will be a daily meal break 12-1pm BST. \nLondon\, England \n\nClick here for a full description of our Phonetics Intensive workshops. The full registration fee is $450 USD. \nPlease note that Experiencing Speech is a prerequisite for the Phonetics Intensive. \n*If you have already taken the Phonetics Intensive and are interested in re-taking it\, add your name to the “re-taker” waitlist here. We will contact you two weeks prior to the start of the workshop to let you know if there is space for you. \n\nDeadlines\n\nIn order to plan effectively for these workshops\, it’s important to have a clear sense of the commitment of potential participants. For that reason we ask for a deposit of $100 USD to secure your place in the workshop. This is due six weeks prior to the start of the workshop\, on February 21st\, 2023. The full payment is due three weeks prior to the start of the workshop\, on March 14th\, 2023. If your plans change\, and you are unable to attend\, we will refund any payment less $75 USD if you inform us by March 21st\, 2023. After that date\, however\, no refunds are possible. Please plan accordingly.
URL:https://ktspeechwork.org/event/phonetics-intensive-21/
LOCATION:Mountview Drama School\, 120 Peckham Hill Street\, London\, SE15 5JT\, United Kingdom
CATEGORIES:CORE,PHONETICS INTENSIVE
ATTACH;FMTTYPE=image/jpeg:https://ktspeechwork.org/wp-content/uploads/2018/09/Phonetics-Intensive-narrow2-scaled.jpg
END:VEVENT
BEGIN:VEVENT
DTSTART;TZID=America/Los_Angeles:20230411T090000
DTEND;TZID=America/Los_Angeles:20230423T220000
DTSTAMP:20260421T082115
CREATED:20220918T144445Z
LAST-MODIFIED:20220918T144753Z
UID:10000274-1681203600-1682287200@ktspeechwork.org
SUMMARY:EXPERIENCING ACCENTS #24
DESCRIPTION:A SIX-DAY WORKSHOP IN THE SKILLS OF ACCENT ACQUISITION\nWith Master Teachers Andrea Caban & Tyler Seiple \n Part One: April 11th-13th\, 2023\, 9am-4pm British Summer Time\,  London\, England. Meal break 12-1pm. \nPart Two: April 21st-23rd\, 2023\, 3pm-10pm British Summer Time\, online. Meal break 6-7pm. \nApril 14th-20th will be days off. Part One will happen in-person in London. Part Two will happen online. \nClick here for a full description of the workshop. \nExperiencing Speech and Phonetics Intensive are prerequisites for Experiencing Accents. \nFor more about Knight-Thompson Speechwork\, please visit About the Work. \n\n  \n\n \nWorkshop Costs:       \n\n\n\n\nVASTA Members    \n\n\n$850 USD*\n\n\n\n\nANY Union Members\n\n\n$850 USD**    \n\n\n\n\nNon-members\n\n\n$950 USD***\n\n\n\n\n \n*     Use the code “vasta” when checking out.\n**   Use the code “unionpride” when checking out.\n*** If you’re interested in repeating an “Experiencing…” workshop that you’ve already taken\, add your name to the “re-taker” waitlist here. We will contact you two weeks prior to the start of the workshop to let you know if there is space for you and provide you with a discount code for 1/2 off the full price of the workshop (discounts cannot be combined).\nDeadlines:\nIn order to plan effectively for these workshops\, it’s important to have a clear sense of the commitment of potential participants. For that reason we ask for a deposit of $200 to secure your place in the workshop. This is due six weeks prior to the start of the workshop\, on February 28\, 2023. The full payment is due three weeks prior to the start of the workshop\, on March 21\, 2023. If your plans change\, and you are unable to attend\, we will refund any payment less $75 if you inform us by March 28\, 2023. \nAfter that date\, however\, no refunds are possible. Please plan accordingly.
URL:https://ktspeechwork.org/event/experiencing-accents-24/
LOCATION:Mountview Drama School\, 120 Peckham Hill Street\, London\, SE15 5JT\, United Kingdom
CATEGORIES:CORE,EXPERIENCING ACCENTS
ATTACH;FMTTYPE=image/jpeg:https://ktspeechwork.org/wp-content/uploads/2018/09/Experiencing-Accents-narrow2-scaled.jpg
END:VEVENT
BEGIN:VEVENT
DTSTART;TZID=America/Los_Angeles:20230430T180000
DTEND;TZID=America/Los_Angeles:20230430T190000
DTSTAMP:20260421T082115
CREATED:20230409T105510Z
LAST-MODIFIED:20230409T105916Z
UID:10000284-1682877600-1682881200@ktspeechwork.org
SUMMARY:KTS Webinar #44 Acting in Accent: Strategies for Embodying the Role
DESCRIPTION:On Sunday\, 30th of April at 10am PST/1pm EST/6pm BST.  \n\n\n\n \n\n\n\nJoin Allegra Ritchie and Matt Koenig as they discuss techniques and strategies for helping actors embody accents while acting. Using principles and practices from Knight-Thompson Speechwork\, Stanislavsky’s teachings\, improvisation\, and animal sounds\, the presenters will offer practical tools to help performers think creatively about their accent in relation to their roles and approaches to playfully explore.  \n\n\n\n \n\n\n\nTo convert this meeting to your time zone\, click here. \n\n\n\nRegistration for this webinar will be $10. Registration will close 24 hours prior to the event and participants will then receive Zoom link information. All registrants will also receive the recording and post-webinar survey after the meeting has ended and been processed. \n\n\n\nIf you have any questions about this\, please contact: kts-webinars@googlegroups.com \n\n\n\n \n\n\n\n \n\n\n\nMatt Koenig is an Assistant Professor of Theatre at Baldwin-Wallace University in Berea\, OH. As an actor he has worked at Utah Shakespeare Festival\, Idaho Shakespeare Festival\, Great Lakes Theatre\, Florida Studio Theatre\, PCPA\, etc. Matt holds an MFA from UC Irvine where he studied Fitzmaurice Voicework and is a certified teacher of Knight-Thompson Speechwork. \n\n\n\n\n\n\n\n \n\n\n\n \n\n\n\nAllegra Ritchie (she/her) is an Assistant Teaching Professor of Voice and Speech at the Penn State School of Theatre. Allegra has worked as a voice\, text\, and accent coach for the California Repertory Theatre and Penn State’s Center Stage\, and served as a workshop and administrative assistant for the Knight-Thompson Speechwork teacher training program. She holds a BA in Sociology and Anthropology from the University of Puget Sound\, an MFA in Acting and Theatre Arts from CSU Long Beach\, and she is a certified teacher of Knight-Thompson Speechwork. 
URL:https://ktspeechwork.org/event/kts-webinar-44-acting-in-accent-strategies-for-embodying-the-role/
END:VEVENT
END:VCALENDAR