BEGIN:VCALENDAR
VERSION:2.0
PRODID:-//ktspeechwork.org - ECPv6.15.18//NONSGML v1.0//EN
CALSCALE:GREGORIAN
METHOD:PUBLISH
X-WR-CALNAME:ktspeechwork.org
X-ORIGINAL-URL:https://ktspeechwork.org
X-WR-CALDESC:Events for ktspeechwork.org
REFRESH-INTERVAL;VALUE=DURATION:PT1H
X-Robots-Tag:noindex
X-PUBLISHED-TTL:PT1H
BEGIN:VTIMEZONE
TZID:America/Los_Angeles
BEGIN:DAYLIGHT
TZOFFSETFROM:-0800
TZOFFSETTO:-0700
TZNAME:PDT
DTSTART:20250309T100000
END:DAYLIGHT
BEGIN:STANDARD
TZOFFSETFROM:-0700
TZOFFSETTO:-0800
TZNAME:PST
DTSTART:20251102T090000
END:STANDARD
BEGIN:DAYLIGHT
TZOFFSETFROM:-0800
TZOFFSETTO:-0700
TZNAME:PDT
DTSTART:20260308T100000
END:DAYLIGHT
BEGIN:STANDARD
TZOFFSETFROM:-0700
TZOFFSETTO:-0800
TZNAME:PST
DTSTART:20261101T090000
END:STANDARD
BEGIN:DAYLIGHT
TZOFFSETFROM:-0800
TZOFFSETTO:-0700
TZNAME:PDT
DTSTART:20270314T100000
END:DAYLIGHT
BEGIN:STANDARD
TZOFFSETFROM:-0700
TZOFFSETTO:-0800
TZNAME:PST
DTSTART:20271107T090000
END:STANDARD
END:VTIMEZONE
BEGIN:VEVENT
DTSTART;TZID=America/Los_Angeles:20260518T130000
DTEND;TZID=America/Los_Angeles:20260518T140000
DTSTAMP:20260422T054302
CREATED:20260418T181606Z
LAST-MODIFIED:20260418T182351Z
UID:10000351-1779109200-1779112800@ktspeechwork.org
SUMMARY:KTS Webinar #67: Book Launch - Spanish Accents and Dialects for Actors
DESCRIPTION:Monday\, May 18th\, 2026 1pm PDT / 4pm EDT / 9pm BST / and 6am AEST (May 19th) \n\n\n\nJoin KTS Certified Teachers Elisa Gonzales\, Josh F.S. Moser\, and Adi Cabral for an interactive introduction to their new book\, Spanish Accents and Dialects for Actors – Volume 1: North America and the Caribbean. The authors will give an overview of the book and the accompanying online resources.No prior experience with KTS or Spanish is required. The book is currently available to order. \n\n\n\nConvert to your time zone here. \n\n\n\nTickets for this webinar are $12. Registration will close 12 hours prior to the event and participants will then receive Zoom link information. All registrants will also receive the recording after the meeting has ended and been processed. \n\n\n\nPresenters:  \n\n\n\nElisa Gonzales is an Assistant Professor of Voice and Acting at UMass Amherst\, and a certified teacher of Fitzmaurice Voicework and Knight-Thompson Speechwork. Her professional coaching credits include productions on Broadway\, the Oregon Shakespeare Festival\, American Players Theatre\, American Repertory Theatre\, Portland Center Stage\, the St. Louis Shakespeare Festival\, the Hangar Theatre Company\, Santa Fe Playhouse\, and many more. Elisa is a proud contributing author to the recently published Routledge Companion to Latine Theatre and Performance. Elisa is also a playwright. Her original play with music\, Olvidados: A Mexican American Corrido\, was a 2022 Semi-Finalist for the O’Neill National Music Theatre Conference. Proud member of VASTA. \n\n\n\nJosh “J” Feliciano-Sanchez Moser is an Actor\, Voice/Dialect Specialist\, and Professor\, certified in Fitzmaurice Voicework® and Knight Thompson Speechwork. MFA from Savannah College of Art and Design. Josh co-authored Spanish Accents and Dialects for Actors\, and the article Strategies for Guiding Actors’ Accent and Linguistic Needs in the 21st Century. Coaching credits include Profile Theatre\, Utah Shakespeare Festival\, The Billie Holiday Theatre\, TheatreWorks Hartford\, CNN’s Harry Enten\, Brown U/Trinity Rep\, Yale\, Princeton. Josh is an assistant professor at Kean University\, and a consultant for Strictly Speaking Group. AEA\, HOLA\, VASTA. www.JoshFSMoser.com. \n\n\n\nAdi Cabral is an Associate Professor of Voice and Movement and Chair of the Department of Theatre and Dance at the University of Nevada\, Reno. Their professional credits in voice and intimacy include over 50 audiobooks and theatrical productions at Oregon Shakespeare Festival\, Berkeley Repertory Theatre\, Huntington Theatre\, and many more. They are the co-author of Here’s How to Teach Voice and Communication Skills to Transgender Women (Plural Publishing 2019)\, author of Queering the Stage (Routledge 2025)\, coauthor of Spanish Accents and Dialects for Actors (Routledge 2026)\, a certified teacher of Fitzmaurice Voicework® and Knight-Thompson Speechwork®\, and a proud member of VASTA and SAG-AFTRA.
URL:https://ktspeechwork.org/event/kts-webinar-67-book-launch-spanish-accents-and-dialects-for-actors/
CATEGORIES:ADDITIONAL,WEBINAR
END:VEVENT
END:VCALENDAR