BEGIN:VCALENDAR
VERSION:2.0
PRODID:-//ktspeechwork.org - ECPv6.15.18//NONSGML v1.0//EN
CALSCALE:GREGORIAN
METHOD:PUBLISH
X-WR-CALNAME:ktspeechwork.org
X-ORIGINAL-URL:https://ktspeechwork.org
X-WR-CALDESC:Events for ktspeechwork.org
REFRESH-INTERVAL;VALUE=DURATION:PT1H
X-Robots-Tag:noindex
X-PUBLISHED-TTL:PT1H
BEGIN:VTIMEZONE
TZID:America/Los_Angeles
BEGIN:DAYLIGHT
TZOFFSETFROM:-0800
TZOFFSETTO:-0700
TZNAME:PDT
DTSTART:20230312T100000
END:DAYLIGHT
BEGIN:STANDARD
TZOFFSETFROM:-0700
TZOFFSETTO:-0800
TZNAME:PST
DTSTART:20231105T090000
END:STANDARD
BEGIN:DAYLIGHT
TZOFFSETFROM:-0800
TZOFFSETTO:-0700
TZNAME:PDT
DTSTART:20240310T100000
END:DAYLIGHT
BEGIN:STANDARD
TZOFFSETFROM:-0700
TZOFFSETTO:-0800
TZNAME:PST
DTSTART:20241103T090000
END:STANDARD
BEGIN:DAYLIGHT
TZOFFSETFROM:-0800
TZOFFSETTO:-0700
TZNAME:PDT
DTSTART:20250309T100000
END:DAYLIGHT
BEGIN:STANDARD
TZOFFSETFROM:-0700
TZOFFSETTO:-0800
TZNAME:PST
DTSTART:20251102T090000
END:STANDARD
END:VTIMEZONE
BEGIN:VEVENT
DTSTART;TZID=America/Los_Angeles:20240824T110000
DTEND;TZID=America/Los_Angeles:20240824T120000
DTSTAMP:20260421T221620
CREATED:20240808T181752Z
LAST-MODIFIED:20240814T225621Z
UID:10000304-1724497200-1724500800@ktspeechwork.org
SUMMARY:KTS Webinar #52 A Free Intro to Knight-Thompson Speechwork: a skills based approach to speech and accent training.
DESCRIPTION:On Saturday August 24th\, 11am PDT/ 2pm EDT/ 7pm BST \n\n\n\nJoin us\, 2024 webinar co-curators\, Jenny and Charlotte\, as we jump into some of the fundamentals of Knight-Thompson Speechwork. We’ll introduce you to the KTS “Principles (perhaps)” and then embark on some exploration and play: making faces\, making sounds\, getting to know our vocal tracts and articulators. Whether you’re brand new to KTS or want to pop in for a refresher\, we’d love to see you there. \n\n\n\nTo convert this meeting to your time zone\, click here. \n\n\n\nRegistration will close 12 hours prior to the event and participants will then receive Zoom link information. All registrants will also receive the recording and post-webinar survey after the meeting has ended and been processed. \n\n\n\n\n\n\n\n\n\n\n\n \n\n\n\nJenny Greer is an actor\, teacher\, and dialect coach based in Los Angeles\, CA. She is a lecturer in the Dept. of Theater and Dance at UC Santa Barbara and voice and speech faculty at AMDA College of the Performing Arts. Before that she was part of the theater faculty at California Institute of the Arts. As an actor\, Jenny has performed in classical and contemporary plays\, musicals\, experimental and devised theater\, as well as film and voiceover. Theater acting credits include: Incubator ArtsProject (NYC)\, Ensemble Studio Theater (NYC)\, Seaside Music Theater (FL)\, North Carolina Shakespeare Festival\, Cape Cod Theater Project\, Living Arts (OK)\, First Works Festival (RI)\, Edinburgh Fringe Festival (UK)\, and in Los Angeles\, the Bootleg Theater\, Getty Villa\, Son of Semele\, Speakeasy Society\, Shakespeare Center of Los Angeles\, Atwater Village Theater\, and REDCAT. She has an MFA from California Institute of the Arts and a BFA from the University of North Carolina at Greensboro. \n\n\n\n \n\n\n\n\n\n\n\n \n\n\n\nCharlotte Markle is an accent/dialect coach and performer currently based in Chicago\, Illinois. In addition to her work as a freelance accent/dialect coach\, Charlotte is an Adjunct Instructor of Voice/Speech at The Theatre School at DePaul University and Chicago College for Performing Arts at Roosevelt University. She is a Core Company Member of Proboscis Theatre Company and received her MFA in Acting from The Theatre School at DePaul University.
URL:https://ktspeechwork.org/event/kts-webinar-52-a-free-intro-to-knight-thompson-speechwork-a-skills-based-approach-to-speech-and-accent-training/
END:VEVENT
END:VCALENDAR