BEGIN:VCALENDAR
VERSION:2.0
PRODID:-//ktspeechwork.org - ECPv6.15.18//NONSGML v1.0//EN
CALSCALE:GREGORIAN
METHOD:PUBLISH
X-ORIGINAL-URL:https://ktspeechwork.org
X-WR-CALDESC:Events for ktspeechwork.org
REFRESH-INTERVAL;VALUE=DURATION:PT1H
X-Robots-Tag:noindex
X-PUBLISHED-TTL:PT1H
BEGIN:VTIMEZONE
TZID:America/Los_Angeles
BEGIN:DAYLIGHT
TZOFFSETFROM:-0800
TZOFFSETTO:-0700
TZNAME:PDT
DTSTART:20220313T100000
END:DAYLIGHT
BEGIN:STANDARD
TZOFFSETFROM:-0700
TZOFFSETTO:-0800
TZNAME:PST
DTSTART:20221106T090000
END:STANDARD
BEGIN:DAYLIGHT
TZOFFSETFROM:-0800
TZOFFSETTO:-0700
TZNAME:PDT
DTSTART:20230312T100000
END:DAYLIGHT
BEGIN:STANDARD
TZOFFSETFROM:-0700
TZOFFSETTO:-0800
TZNAME:PST
DTSTART:20231105T090000
END:STANDARD
BEGIN:DAYLIGHT
TZOFFSETFROM:-0800
TZOFFSETTO:-0700
TZNAME:PDT
DTSTART:20240310T100000
END:DAYLIGHT
BEGIN:STANDARD
TZOFFSETFROM:-0700
TZOFFSETTO:-0800
TZNAME:PST
DTSTART:20241103T090000
END:STANDARD
END:VTIMEZONE
BEGIN:VEVENT
DTSTART;TZID=America/Los_Angeles:20231218T080000
DTEND;TZID=America/Los_Angeles:20231220T150000
DTSTAMP:20260423T071519
CREATED:20230505T141453Z
LAST-MODIFIED:20230505T142555Z
UID:10000287-1702886400-1703084400@ktspeechwork.org
SUMMARY:PHONETICS INTENSIVE #23
DESCRIPTION:A Three-Day Online Intensive in Phonetic Transcription\nWith Master Teachers Andrea Caban & Tyler Seiple\nDecember 18-20\, 2023\, 8:00am-3:00pm Pacific Time. \nThere will be a daily meal break from 11:00am to 12:00pm Pacific. \nThis course will be online only. All documents and audio materials will be shared through an online platform. All sessions will be recorded and shared with participants. \n\nClick here for a full description of our Phonetics Intensive workshops. The full registration fee is $450 USD. \nPlease note that Experiencing Speech is a prerequisite for the Phonetics Intensive. \n*If you have already taken the Phonetics Intensive and are interested in re-taking it\, add your name to the “re-taker” waitlist here. We will contact you two weeks prior to the start of the workshop to let you know if there is space for you. \n\nDeadlines\n\nIn order to plan effectively for these workshops\, it’s important to have a clear sense of the commitment of potential participants. For that reason we ask for a deposit of $100 USD to secure your place in the workshop. This is due six weeks prior to the start of the workshop\, on November 6\, 2023. The full payment is due three weeks prior to the start of the workshop\, on November 27\, 2023. If your plans change\, and you are unable to attend\, we will refund any payment less $75 USD if you inform us by December 4\, 2023. After that date\, however\, no refunds are possible. Please plan accordingly.
URL:https://ktspeechwork.org/event/phonetics-intensive-23/
CATEGORIES:CORE,PHONETICS INTENSIVE
ATTACH;FMTTYPE=image/jpeg:https://ktspeechwork.org/wp-content/uploads/2018/09/Phonetics-Intensive-narrow2-scaled.jpg
END:VEVENT
END:VCALENDAR