BEGIN:VCALENDAR
VERSION:2.0
PRODID:-//ktspeechwork.org - ECPv6.15.18//NONSGML v1.0//EN
CALSCALE:GREGORIAN
METHOD:PUBLISH
X-WR-CALNAME:ktspeechwork.org
X-ORIGINAL-URL:https://ktspeechwork.org
X-WR-CALDESC:Events for ktspeechwork.org
REFRESH-INTERVAL;VALUE=DURATION:PT1H
X-Robots-Tag:noindex
X-PUBLISHED-TTL:PT1H
BEGIN:VTIMEZONE
TZID:America/Los_Angeles
BEGIN:DAYLIGHT
TZOFFSETFROM:-0800
TZOFFSETTO:-0700
TZNAME:PDT
DTSTART:20220313T100000
END:DAYLIGHT
BEGIN:STANDARD
TZOFFSETFROM:-0700
TZOFFSETTO:-0800
TZNAME:PST
DTSTART:20221106T090000
END:STANDARD
BEGIN:DAYLIGHT
TZOFFSETFROM:-0800
TZOFFSETTO:-0700
TZNAME:PDT
DTSTART:20230312T100000
END:DAYLIGHT
BEGIN:STANDARD
TZOFFSETFROM:-0700
TZOFFSETTO:-0800
TZNAME:PST
DTSTART:20231105T090000
END:STANDARD
BEGIN:DAYLIGHT
TZOFFSETFROM:-0800
TZOFFSETTO:-0700
TZNAME:PDT
DTSTART:20240310T100000
END:DAYLIGHT
BEGIN:STANDARD
TZOFFSETFROM:-0700
TZOFFSETTO:-0800
TZNAME:PST
DTSTART:20241103T090000
END:STANDARD
END:VTIMEZONE
BEGIN:VEVENT
DTSTART;TZID=America/Los_Angeles:20230430T180000
DTEND;TZID=America/Los_Angeles:20230430T190000
DTSTAMP:20260421T221550
CREATED:20230409T105510Z
LAST-MODIFIED:20230409T105916Z
UID:10000284-1682877600-1682881200@ktspeechwork.org
SUMMARY:KTS Webinar #44 Acting in Accent: Strategies for Embodying the Role
DESCRIPTION:On Sunday\, 30th of April at 10am PST/1pm EST/6pm BST.  \n\n\n\n \n\n\n\nJoin Allegra Ritchie and Matt Koenig as they discuss techniques and strategies for helping actors embody accents while acting. Using principles and practices from Knight-Thompson Speechwork\, Stanislavsky’s teachings\, improvisation\, and animal sounds\, the presenters will offer practical tools to help performers think creatively about their accent in relation to their roles and approaches to playfully explore.  \n\n\n\n \n\n\n\nTo convert this meeting to your time zone\, click here. \n\n\n\nRegistration for this webinar will be $10. Registration will close 24 hours prior to the event and participants will then receive Zoom link information. All registrants will also receive the recording and post-webinar survey after the meeting has ended and been processed. \n\n\n\nIf you have any questions about this\, please contact: kts-webinars@googlegroups.com \n\n\n\n \n\n\n\n \n\n\n\nMatt Koenig is an Assistant Professor of Theatre at Baldwin-Wallace University in Berea\, OH. As an actor he has worked at Utah Shakespeare Festival\, Idaho Shakespeare Festival\, Great Lakes Theatre\, Florida Studio Theatre\, PCPA\, etc. Matt holds an MFA from UC Irvine where he studied Fitzmaurice Voicework and is a certified teacher of Knight-Thompson Speechwork. \n\n\n\n\n\n\n\n \n\n\n\n \n\n\n\nAllegra Ritchie (she/her) is an Assistant Teaching Professor of Voice and Speech at the Penn State School of Theatre. Allegra has worked as a voice\, text\, and accent coach for the California Repertory Theatre and Penn State’s Center Stage\, and served as a workshop and administrative assistant for the Knight-Thompson Speechwork teacher training program. She holds a BA in Sociology and Anthropology from the University of Puget Sound\, an MFA in Acting and Theatre Arts from CSU Long Beach\, and she is a certified teacher of Knight-Thompson Speechwork. 
URL:https://ktspeechwork.org/event/kts-webinar-44-acting-in-accent-strategies-for-embodying-the-role/
END:VEVENT
END:VCALENDAR