BEGIN:VCALENDAR
VERSION:2.0
PRODID:-//ktspeechwork.org - ECPv6.15.18//NONSGML v1.0//EN
CALSCALE:GREGORIAN
METHOD:PUBLISH
X-ORIGINAL-URL:https://ktspeechwork.org
X-WR-CALDESC:Events for ktspeechwork.org
REFRESH-INTERVAL;VALUE=DURATION:PT1H
X-Robots-Tag:noindex
X-PUBLISHED-TTL:PT1H
BEGIN:VTIMEZONE
TZID:America/Los_Angeles
BEGIN:DAYLIGHT
TZOFFSETFROM:-0800
TZOFFSETTO:-0700
TZNAME:PDT
DTSTART:20200308T100000
END:DAYLIGHT
BEGIN:STANDARD
TZOFFSETFROM:-0700
TZOFFSETTO:-0800
TZNAME:PST
DTSTART:20201101T090000
END:STANDARD
BEGIN:DAYLIGHT
TZOFFSETFROM:-0800
TZOFFSETTO:-0700
TZNAME:PDT
DTSTART:20210314T100000
END:DAYLIGHT
BEGIN:STANDARD
TZOFFSETFROM:-0700
TZOFFSETTO:-0800
TZNAME:PST
DTSTART:20211107T090000
END:STANDARD
BEGIN:DAYLIGHT
TZOFFSETFROM:-0800
TZOFFSETTO:-0700
TZNAME:PDT
DTSTART:20220313T100000
END:DAYLIGHT
BEGIN:STANDARD
TZOFFSETFROM:-0700
TZOFFSETTO:-0800
TZNAME:PST
DTSTART:20221106T090000
END:STANDARD
END:VTIMEZONE
BEGIN:VTIMEZONE
TZID:Australia/Sydney
BEGIN:STANDARD
TZOFFSETFROM:+1100
TZOFFSETTO:+1000
TZNAME:AEST
DTSTART:20200404T160000
END:STANDARD
BEGIN:DAYLIGHT
TZOFFSETFROM:+1000
TZOFFSETTO:+1100
TZNAME:AEDT
DTSTART:20201003T160000
END:DAYLIGHT
BEGIN:STANDARD
TZOFFSETFROM:+1100
TZOFFSETTO:+1000
TZNAME:AEST
DTSTART:20210403T160000
END:STANDARD
BEGIN:DAYLIGHT
TZOFFSETFROM:+1000
TZOFFSETTO:+1100
TZNAME:AEDT
DTSTART:20211002T160000
END:DAYLIGHT
BEGIN:STANDARD
TZOFFSETFROM:+1100
TZOFFSETTO:+1000
TZNAME:AEST
DTSTART:20220402T160000
END:STANDARD
BEGIN:DAYLIGHT
TZOFFSETFROM:+1000
TZOFFSETTO:+1100
TZNAME:AEDT
DTSTART:20221001T160000
END:DAYLIGHT
END:VTIMEZONE
BEGIN:VEVENT
DTSTART;TZID=America/Los_Angeles:20211211T080000
DTEND;TZID=America/Los_Angeles:20211217T150000
DTSTAMP:20260424T035015
CREATED:20210307T165824Z
LAST-MODIFIED:20211206T161210Z
UID:10000235-1639209600-1639753200@ktspeechwork.org
SUMMARY:EXPERIENCING SPEECH #33 Online
DESCRIPTION:Registration for EXPERIENCING SPEECH #33 is currently closed. Any available Remaining Balance tickets are for participants who have already registered. Click here to put your name on the waitlist.\nAn Online Six-Day Workshop in:\nthe sounds of the world’s languages \nthe physicality of speech actions \nintroducing descriptive phonetics \nthe skills of adjusting linguistic detail in speech \nWith Teachers Andrea Caban\, Nathan Crocker\, & Julie Foh\nDecember 11-17\, 2021\, 8am-3pm Pacific Time \nThere will be an hour-long daily meal break from 11:00am to 12:00pm Pacific Time. \nDecember 14th will be a day off. \nAll sessions will be recorded and shared with participants. \nClick here for a full description of the workshop. \n\nWorkshop Costs:       \n\n\n\n\nVASTA Members    \n\n\n$850 USD*\n\n\n\n\nANY Union Members\n\n\n$850 USD**    \n\n\n\n\nNon-members\n\n\n$950 USD***\n\n\n\n\n\n* Use the code “vasta” when checking out.\n** Use the code “unionpride” when checking out.\n*** If you’re interested in repeating an “Experiencing…” workshop that you’ve already taken\, add your name to the “re-taker” waitlist here. We will contact you two weeks prior to the start of the workshop to let you know if there is space for you and provide you with a discount code for 1/2 off the full price of the workshop (discounts cannot be combined).\n\n\n\n\nThere is also a PART ONE ONLY OPTION for $550 USD ($450 USD with union membership)! \nThis three-day session (Part One) focuses on: \nAwareness and practice of precise articulation action \nThe physical actions that produce all the sounds of the world’s languages—”Omnish” \nVocal Tract Posture—the articulatory basis for the sounds in accents and languages \nThis session will also prepare the participant for Part Two\, which includes detailed phonetic transcription and an exploration of the skills of adjusting linguistic detail in speech. (No phonetic transcription will be used in Part One of the workshop.) Email knightthompsonspeechwork@gmail.com if interested in a PART ONE ONLY OPTION. \n  \n\n\n\n\n\nDeadlines:\n\nIn order to plan effectively for these workshops\, it’s important to have a clear sense of the commitment of potential participants. For that reason we ask for a deposit of $200 USD to secure your place in the workshop. This is due six weeks prior to the start of the workshop\, on October 30th\, 2021. The full payment is due three weeks prior to the start of the workshop\, on November 20th\, 2021. If your plans change\, and you are unable to attend\, we will refund any payment less $75 USD if you inform us by November 27th\, 2021. After that date\, however\, no refunds are possible. Please plan accordingly.
URL:https://ktspeechwork.org/event/experiencing-speech-33/
LOCATION:Online\, United States
CATEGORIES:CORE,EXPERIENCING SPEECH
ATTACH;FMTTYPE=image/jpeg:https://ktspeechwork.org/wp-content/uploads/2018/09/Experiencing-SPEECH-narrow-scaled.jpg
GEO:37.09024;-95.712891
END:VEVENT
BEGIN:VEVENT
DTSTART;TZID=Australia/Sydney:20211212T120000
DTEND;TZID=Australia/Sydney:20211218T190000
DTSTAMP:20260424T035015
CREATED:20210519T231252Z
LAST-MODIFIED:20210519T231252Z
UID:10000128-1639310400-1639854000@ktspeechwork.org
SUMMARY:EXPERIENCING SPEECH #34 Online from Australia
DESCRIPTION:A Six-Day Online Workshop in:\nthe sounds of the world’s languages \nthe physicality of speech actions \nintroducing descriptive phonetics \nthe skills of adjusting linguistic detail in speech \nWith Teachers Simon Masterton & Linda Nicholls-Gidley \nDecember 12-18\, 2021\, 12:00-7:00pm Australian Eastern Daylight Time. \nThat’s 6:30am-1:30pm in Mumbai and Colombo; \n9am-4pm in Singapore\, Perth\, Kuala Lumpur\, Beijing\, and Hong Kong; \n10am-5pm in Seoul and Tokyo; \n2-9pm in New Zealand; \n1am-8am in London; \n8pm-3am in New York. \nTime Zone Calculator here. \nThere will be an hour-long daily meal break from 3:00 to 4:00pm AEDT. \nDecember 15th will be a day off. \nAll sessions will be recorded and shared with participants. \nClick here for a full description of the workshop. \n\nWorkshop Costs:       \n\n\n\n\nVASTA Members    \n\n\n$850 USD*\n\n\n\n\nANY Union Members\n\n\n$850 USD**    \n\n\n\n\nNon-members\n\n\n$950 USD***\n\n\n\n\n\n* Use the code “vasta” when checking out.\n** Use the code “unionpride” when checking out.\n*** If you’re interested in repeating an “Experiencing…” workshop that you’ve already taken\, add your name to the “re-taker” waitlist here. We will contact you two weeks prior to the start of the workshop to let you know if there is space for you and provide you with a discount code for 1/2 off the full price of the workshop (discounts cannot be combined).\n\n\n\n\nThere is also a PART ONE ONLY OPTION for $500 USD ($400 USD with union membership)! \nThis three-day session (Part One) focuses on: \nAwareness and practice of precise articulation action \nThe physical actions that produce all the sounds of the world’s languages—”Omnish” \nVocal Tract Posture—the articulatory basis for the sounds in accents and languages \nThis session will also prepare the participant for Part Two\, which includes detailed phonetic transcription and an exploration of the skills of adjusting linguistic detail in speech. (No phonetic transcription will be used in Part One of the workshop.) Email knightthompsonspeechwork@gmail.com if interested in a PART ONE ONLY OPTION. \n  \n\n\n\n\n\nDeadlines:\n\nIn order to plan effectively for these workshops\, it’s important to have a clear sense of the commitment of potential participants. For that reason we ask for a deposit of $200 USD to secure your place in the workshop. This is due six weeks prior to the start of the workshop\, on October 31st\, 2021. The full payment is due three weeks prior to the start of the workshop\, on November 21st\, 2021. If your plans change\, and you are unable to attend\, we will refund any payment less $75 USD if you inform us by November 28th\, 2021. After that date\, however\, no refunds are possible. Please plan accordingly.
URL:https://ktspeechwork.org/event/experiencing-speech-34-online-from-australia/
LOCATION:Online\, United States
CATEGORIES:CORE,EXPERIENCING SPEECH
ATTACH;FMTTYPE=image/jpeg:https://ktspeechwork.org/wp-content/uploads/2018/09/Experiencing-SPEECH-narrow-scaled.jpg
GEO:37.09024;-95.712891
END:VEVENT
END:VCALENDAR